BEGIN:VCALENDAR
VERSION:2.0
PRODID:-//Noble Minds Institute - ECPv6.15.20//NONSGML v1.0//EN
CALSCALE:GREGORIAN
METHOD:PUBLISH
X-ORIGINAL-URL:https://nobleminds.org
X-WR-CALDESC:Events for Noble Minds Institute
REFRESH-INTERVAL;VALUE=DURATION:PT1H
X-Robots-Tag:noindex
X-PUBLISHED-TTL:PT1H
BEGIN:VTIMEZONE
TZID:America/Chicago
BEGIN:DAYLIGHT
TZOFFSETFROM:-0600
TZOFFSETTO:-0500
TZNAME:CDT
DTSTART:20220313T080000
END:DAYLIGHT
BEGIN:STANDARD
TZOFFSETFROM:-0500
TZOFFSETTO:-0600
TZNAME:CST
DTSTART:20221106T070000
END:STANDARD
BEGIN:DAYLIGHT
TZOFFSETFROM:-0600
TZOFFSETTO:-0500
TZNAME:CDT
DTSTART:20230312T080000
END:DAYLIGHT
BEGIN:STANDARD
TZOFFSETFROM:-0500
TZOFFSETTO:-0600
TZNAME:CST
DTSTART:20231105T070000
END:STANDARD
BEGIN:DAYLIGHT
TZOFFSETFROM:-0600
TZOFFSETTO:-0500
TZNAME:CDT
DTSTART:20240310T080000
END:DAYLIGHT
BEGIN:STANDARD
TZOFFSETFROM:-0500
TZOFFSETTO:-0600
TZNAME:CST
DTSTART:20241103T070000
END:STANDARD
BEGIN:DAYLIGHT
TZOFFSETFROM:-0600
TZOFFSETTO:-0500
TZNAME:CDT
DTSTART:20250309T080000
END:DAYLIGHT
BEGIN:STANDARD
TZOFFSETFROM:-0500
TZOFFSETTO:-0600
TZNAME:CST
DTSTART:20251102T070000
END:STANDARD
BEGIN:DAYLIGHT
TZOFFSETFROM:-0600
TZOFFSETTO:-0500
TZNAME:CDT
DTSTART:20260308T080000
END:DAYLIGHT
BEGIN:STANDARD
TZOFFSETFROM:-0500
TZOFFSETTO:-0600
TZNAME:CST
DTSTART:20261101T070000
END:STANDARD
BEGIN:DAYLIGHT
TZOFFSETFROM:-0600
TZOFFSETTO:-0500
TZNAME:CDT
DTSTART:20270314T080000
END:DAYLIGHT
BEGIN:STANDARD
TZOFFSETFROM:-0500
TZOFFSETTO:-0600
TZNAME:CST
DTSTART:20271107T070000
END:STANDARD
END:VTIMEZONE
BEGIN:VEVENT
DTSTART;VALUE=DATE:20260405
DTEND;VALUE=DATE:20260406
DTSTAMP:20260423T125142
CREATED:20251028T022841Z
LAST-MODIFIED:20251028T022841Z
UID:3008-1775347200-1775433599@nobleminds.org
SUMMARY:Easter Sunday
DESCRIPTION:
URL:https://nobleminds.org/event/easter-sunday/
CATEGORIES:Holiday
END:VEVENT
BEGIN:VEVENT
DTSTART;VALUE=DATE:20260403
DTEND;VALUE=DATE:20260404
DTSTAMP:20260423T125142
CREATED:20251028T022807Z
LAST-MODIFIED:20251028T022807Z
UID:3006-1775174400-1775260799@nobleminds.org
SUMMARY:Good Friday
DESCRIPTION:
URL:https://nobleminds.org/event/good-friday/
CATEGORIES:Holiday
END:VEVENT
BEGIN:VEVENT
DTSTART;VALUE=DATE:20260101
DTEND;VALUE=DATE:20260102
DTSTAMP:20260423T125142
CREATED:20251028T022117Z
LAST-MODIFIED:20251028T022117Z
UID:2990-1767225600-1767311999@nobleminds.org
SUMMARY:New Year's Day
DESCRIPTION:
URL:https://nobleminds.org/event/new-years-day/
CATEGORIES:Holiday
END:VEVENT
BEGIN:VEVENT
DTSTART;VALUE=DATE:20251124
DTEND;VALUE=DATE:20251129
DTSTAMP:20260423T125142
CREATED:20251028T021653Z
LAST-MODIFIED:20251028T021653Z
UID:2980-1763942400-1764374399@nobleminds.org
SUMMARY:Fall Break - no school
DESCRIPTION:
URL:https://nobleminds.org/event/fall-break-no-school-3/
CATEGORIES:Holiday
END:VEVENT
BEGIN:VEVENT
DTSTART;VALUE=DATE:20251111
DTEND;VALUE=DATE:20251112
DTSTAMP:20260423T125142
CREATED:20251028T021558Z
LAST-MODIFIED:20251028T021558Z
UID:2978-1762819200-1762905599@nobleminds.org
SUMMARY:Veterans Day
DESCRIPTION:
URL:https://nobleminds.org/event/veterans-day-3/
CATEGORIES:Holiday
END:VEVENT
BEGIN:VEVENT
DTSTART;VALUE=DATE:20250901
DTEND;VALUE=DATE:20250902
DTSTAMP:20260423T125142
CREATED:20250609T164711Z
LAST-MODIFIED:20250609T164711Z
UID:2948-1756684800-1756771199@nobleminds.org
SUMMARY:Labor Day
DESCRIPTION:
URL:https://nobleminds.org/event/labor-day/
CATEGORIES:Holiday
END:VEVENT
BEGIN:VEVENT
DTSTART;VALUE=DATE:20250704
DTEND;VALUE=DATE:20250705
DTSTAMP:20260423T125142
CREATED:20250609T164326Z
LAST-MODIFIED:20250609T164326Z
UID:2938-1751587200-1751673599@nobleminds.org
SUMMARY:4th of July 2025
DESCRIPTION:NO SCHOOL
URL:https://nobleminds.org/event/4th-of-july-2025/
CATEGORIES:Holiday
END:VEVENT
BEGIN:VEVENT
DTSTART;VALUE=DATE:20250120
DTEND;VALUE=DATE:20250121
DTSTAMP:20260423T125142
CREATED:20241204T051803Z
LAST-MODIFIED:20241204T051803Z
UID:2842-1737331200-1737417599@nobleminds.org
SUMMARY:MLK & Inauguration Day (no school)
DESCRIPTION:
URL:https://nobleminds.org/event/mlk-inauguration-day-no-school/
CATEGORIES:Holiday
END:VEVENT
BEGIN:VEVENT
DTSTART;VALUE=DATE:20250101
DTEND;VALUE=DATE:20250104
DTSTAMP:20260423T125142
CREATED:20241204T051453Z
LAST-MODIFIED:20241204T051453Z
UID:2833-1735689600-1735948799@nobleminds.org
SUMMARY:Winter Break (no school)
DESCRIPTION:
URL:https://nobleminds.org/event/winter-break-no-school-3/
CATEGORIES:Holiday
END:VEVENT
BEGIN:VEVENT
DTSTART;VALUE=DATE:20241223
DTEND;VALUE=DATE:20250101
DTSTAMP:20260423T125142
CREATED:20241204T000645Z
LAST-MODIFIED:20241204T000645Z
UID:2829-1734912000-1735689599@nobleminds.org
SUMMARY:Winter Break (no school)
DESCRIPTION:
URL:https://nobleminds.org/event/winter-break-no-school-2/
CATEGORIES:Holiday
END:VEVENT
BEGIN:VEVENT
DTSTART;VALUE=DATE:20241125
DTEND;VALUE=DATE:20241130
DTSTAMP:20260423T125142
CREATED:20240804T031012Z
LAST-MODIFIED:20240804T031012Z
UID:2738-1732492800-1732924799@nobleminds.org
SUMMARY:Fall Break - NO SCHOOL
DESCRIPTION:
URL:https://nobleminds.org/event/fall-break-no-school-2/
CATEGORIES:Holiday
END:VEVENT
BEGIN:VEVENT
DTSTART;VALUE=DATE:20241105
DTEND;VALUE=DATE:20241106
DTSTAMP:20260423T125142
CREATED:20240804T030728Z
LAST-MODIFIED:20240804T030728Z
UID:2728-1730764800-1730851199@nobleminds.org
SUMMARY:Election Day - NO SCHOOL
DESCRIPTION:
URL:https://nobleminds.org/event/election-day-no-school/
CATEGORIES:Holiday
END:VEVENT
BEGIN:VEVENT
DTSTART;VALUE=DATE:20240902
DTEND;VALUE=DATE:20240903
DTSTAMP:20260423T125142
CREATED:20240804T025402Z
LAST-MODIFIED:20240804T025402Z
UID:2701-1725235200-1725321599@nobleminds.org
SUMMARY:Labor Day - No School
DESCRIPTION:
URL:https://nobleminds.org/event/labor-day-no-school-2/
CATEGORIES:Holiday
END:VEVENT
BEGIN:VEVENT
DTSTART;VALUE=DATE:20240328
DTEND;VALUE=DATE:20240403
DTSTAMP:20260423T125142
CREATED:20230802T022936Z
LAST-MODIFIED:20230802T025950Z
UID:2047-1711584000-1712102399@nobleminds.org
SUMMARY:Spring Break - No School
DESCRIPTION:
URL:https://nobleminds.org/event/spring-break-no-school/
CATEGORIES:Holiday
END:VEVENT
BEGIN:VEVENT
DTSTART;VALUE=DATE:20240212
DTEND;VALUE=DATE:20240217
DTSTAMP:20260423T125142
CREATED:20230802T022546Z
LAST-MODIFIED:20230802T030630Z
UID:2037-1707696000-1708127999@nobleminds.org
SUMMARY:Mardi Gras Break - No School
DESCRIPTION:
URL:https://nobleminds.org/event/mardi-gras-break-no-school/
CATEGORIES:Holiday
END:VEVENT
BEGIN:VEVENT
DTSTART;VALUE=DATE:20240115
DTEND;VALUE=DATE:20240116
DTSTAMP:20260423T125142
CREATED:20230802T022409Z
LAST-MODIFIED:20230802T030956Z
UID:2031-1705276800-1705363199@nobleminds.org
SUMMARY:Martin Luther King Day
DESCRIPTION:
URL:https://nobleminds.org/event/martin-luther-king-day/
CATEGORIES:Holiday
END:VEVENT
BEGIN:VEVENT
DTSTART;VALUE=DATE:20231225
DTEND;VALUE=DATE:20240106
DTSTAMP:20260423T125142
CREATED:20230802T022258Z
LAST-MODIFIED:20230802T031044Z
UID:2027-1703462400-1704499199@nobleminds.org
SUMMARY:Winter Break - No School
DESCRIPTION:
URL:https://nobleminds.org/event/winter-break-no-school/
CATEGORIES:Holiday
END:VEVENT
BEGIN:VEVENT
DTSTART;VALUE=DATE:20231207
DTEND;VALUE=DATE:20231216
DTSTAMP:20260423T125142
CREATED:20230802T022009Z
LAST-MODIFIED:20230802T025718Z
UID:2019-1701907200-1702684799@nobleminds.org
SUMMARY:Hanukkah
DESCRIPTION:
URL:https://nobleminds.org/event/hanukkah/
CATEGORIES:Holiday
END:VEVENT
BEGIN:VEVENT
DTSTART;VALUE=DATE:20231120
DTEND;VALUE=DATE:20231125
DTSTAMP:20260423T125142
CREATED:20230802T021929Z
LAST-MODIFIED:20230802T025651Z
UID:2017-1700438400-1700870399@nobleminds.org
SUMMARY:Fall Break - No School
DESCRIPTION:
URL:https://nobleminds.org/event/fall-break-no-school/
CATEGORIES:Holiday
END:VEVENT
BEGIN:VEVENT
DTSTART;VALUE=DATE:20231111
DTEND;VALUE=DATE:20231112
DTSTAMP:20260423T125142
CREATED:20230802T021830Z
LAST-MODIFIED:20230802T025600Z
UID:2013-1699660800-1699747199@nobleminds.org
SUMMARY:Veterans Day
DESCRIPTION:
URL:https://nobleminds.org/event/veterans-day/
CATEGORIES:Holiday
END:VEVENT
BEGIN:VEVENT
DTSTART;VALUE=DATE:20231031
DTEND;VALUE=DATE:20231101
DTSTAMP:20260423T125142
CREATED:20230802T021805Z
LAST-MODIFIED:20230802T025632Z
UID:2011-1698710400-1698796799@nobleminds.org
SUMMARY:Halloween
DESCRIPTION:
URL:https://nobleminds.org/event/halloween/
CATEGORIES:Holiday
END:VEVENT
BEGIN:VEVENT
DTSTART;VALUE=DATE:20230904
DTEND;VALUE=DATE:20230905
DTSTAMP:20260423T125142
CREATED:20230802T021559Z
LAST-MODIFIED:20230802T025404Z
UID:2003-1693785600-1693871999@nobleminds.org
SUMMARY:Labor Day - No School
DESCRIPTION:
URL:https://nobleminds.org/event/labor-day-no-school/
CATEGORIES:Holiday
END:VEVENT
END:VCALENDAR