BEGIN:VCALENDAR
VERSION:2.0
PRODID:-//Noble Minds Institute - ECPv6.15.20//NONSGML v1.0//EN
CALSCALE:GREGORIAN
METHOD:PUBLISH
X-ORIGINAL-URL:https://nobleminds.org
X-WR-CALDESC:Events for Noble Minds Institute
REFRESH-INTERVAL;VALUE=DURATION:PT1H
X-Robots-Tag:noindex
X-PUBLISHED-TTL:PT1H
BEGIN:VTIMEZONE
TZID:America/Chicago
BEGIN:DAYLIGHT
TZOFFSETFROM:-0600
TZOFFSETTO:-0500
TZNAME:CDT
DTSTART:20220313T080000
END:DAYLIGHT
BEGIN:STANDARD
TZOFFSETFROM:-0500
TZOFFSETTO:-0600
TZNAME:CST
DTSTART:20221106T070000
END:STANDARD
BEGIN:DAYLIGHT
TZOFFSETFROM:-0600
TZOFFSETTO:-0500
TZNAME:CDT
DTSTART:20230312T080000
END:DAYLIGHT
BEGIN:STANDARD
TZOFFSETFROM:-0500
TZOFFSETTO:-0600
TZNAME:CST
DTSTART:20231105T070000
END:STANDARD
BEGIN:DAYLIGHT
TZOFFSETFROM:-0600
TZOFFSETTO:-0500
TZNAME:CDT
DTSTART:20240310T080000
END:DAYLIGHT
BEGIN:STANDARD
TZOFFSETFROM:-0500
TZOFFSETTO:-0600
TZNAME:CST
DTSTART:20241103T070000
END:STANDARD
BEGIN:DAYLIGHT
TZOFFSETFROM:-0600
TZOFFSETTO:-0500
TZNAME:CDT
DTSTART:20250309T080000
END:DAYLIGHT
BEGIN:STANDARD
TZOFFSETFROM:-0500
TZOFFSETTO:-0600
TZNAME:CST
DTSTART:20251102T070000
END:STANDARD
BEGIN:DAYLIGHT
TZOFFSETFROM:-0600
TZOFFSETTO:-0500
TZNAME:CDT
DTSTART:20260308T080000
END:DAYLIGHT
BEGIN:STANDARD
TZOFFSETFROM:-0500
TZOFFSETTO:-0600
TZNAME:CST
DTSTART:20261101T070000
END:STANDARD
BEGIN:DAYLIGHT
TZOFFSETFROM:-0600
TZOFFSETTO:-0500
TZNAME:CDT
DTSTART:20270314T080000
END:DAYLIGHT
BEGIN:STANDARD
TZOFFSETFROM:-0500
TZOFFSETTO:-0600
TZNAME:CST
DTSTART:20271107T070000
END:STANDARD
END:VTIMEZONE
BEGIN:VEVENT
DTSTART;VALUE=DATE:20260402
DTEND;VALUE=DATE:20260408
DTSTAMP:20260423T125034
CREATED:20251028T022718Z
LAST-MODIFIED:20251028T022718Z
UID:3004-1775088000-1775606399@nobleminds.org
SUMMARY:Spring Break
DESCRIPTION:
URL:https://nobleminds.org/event/spring-break/
CATEGORIES:Faculty/ Staff,Parents,Students
END:VEVENT
BEGIN:VEVENT
DTSTART;VALUE=DATE:20260328
DTEND;VALUE=DATE:20260329
DTSTAMP:20260423T125034
CREATED:20251028T022603Z
LAST-MODIFIED:20251028T022603Z
UID:3002-1774656000-1774742399@nobleminds.org
SUMMARY:Spring Teddy Bear Tea
DESCRIPTION:
URL:https://nobleminds.org/event/spring-teddy-bear-tea/
CATEGORIES:Parents,Special,Students
END:VEVENT
BEGIN:VEVENT
DTSTART;VALUE=DATE:20260309
DTEND;VALUE=DATE:20260310
DTSTAMP:20260423T125034
CREATED:20251028T022518Z
LAST-MODIFIED:20251028T022518Z
UID:3000-1773014400-1773100799@nobleminds.org
SUMMARY:Quarter 4 begins
DESCRIPTION:
URL:https://nobleminds.org/event/quarter-4-begins/
CATEGORIES:Faculty/ Staff,Parents,Students
END:VEVENT
BEGIN:VEVENT
DTSTART;VALUE=DATE:20260306
DTEND;VALUE=DATE:20260307
DTSTAMP:20260423T125034
CREATED:20251028T022433Z
LAST-MODIFIED:20251028T022433Z
UID:2998-1772755200-1772841599@nobleminds.org
SUMMARY:2026 1/2 day progress report
DESCRIPTION:
URL:https://nobleminds.org/event/2026-1-2-day-progress-report/
CATEGORIES:Faculty/ Staff,Parents,Students
END:VEVENT
BEGIN:VEVENT
DTSTART;VALUE=DATE:20260223
DTEND;VALUE=DATE:20260224
DTSTAMP:20260423T125034
CREATED:20251028T022335Z
LAST-MODIFIED:20251028T022335Z
UID:2996-1771804800-1771891199@nobleminds.org
SUMMARY:Quarter 3 begins
DESCRIPTION:
URL:https://nobleminds.org/event/quarter-3-begins/
CATEGORIES:Faculty/ Staff,Parents,Students
END:VEVENT
BEGIN:VEVENT
DTSTART;VALUE=DATE:20260216
DTEND;VALUE=DATE:20260221
DTSTAMP:20260423T125034
CREATED:20251028T022250Z
LAST-MODIFIED:20251028T022250Z
UID:2994-1771200000-1771631999@nobleminds.org
SUMMARY:Mardi Gras Break - no school
DESCRIPTION:
URL:https://nobleminds.org/event/mardi-gras-break-no-school-2/
CATEGORIES:Parents,Students
END:VEVENT
BEGIN:VEVENT
DTSTART;VALUE=DATE:20260105
DTEND;VALUE=DATE:20260106
DTSTAMP:20260423T125034
CREATED:20251028T022154Z
LAST-MODIFIED:20251028T022154Z
UID:2992-1767571200-1767657599@nobleminds.org
SUMMARY:Students return
DESCRIPTION:
URL:https://nobleminds.org/event/students-return/
CATEGORIES:Faculty/ Staff,Parents,Students
END:VEVENT
BEGIN:VEVENT
DTSTART;VALUE=DATE:20251222
DTEND;VALUE=DATE:20260103
DTSTAMP:20260423T125034
CREATED:20251028T022039Z
LAST-MODIFIED:20251028T022039Z
UID:2988-1766361600-1767398399@nobleminds.org
SUMMARY:Winter Break - no school
DESCRIPTION:
URL:https://nobleminds.org/event/winter-break-no-school-4/
CATEGORIES:Parents,Students
END:VEVENT
BEGIN:VEVENT
DTSTART;VALUE=DATE:20251219
DTEND;VALUE=DATE:20251220
DTSTAMP:20260423T125034
CREATED:20251028T021943Z
LAST-MODIFIED:20251028T021943Z
UID:2986-1766102400-1766188799@nobleminds.org
SUMMARY:Report Card Conference - no school
DESCRIPTION:
URL:https://nobleminds.org/event/report-card-conference-no-school/
CATEGORIES:Parents,Students
END:VEVENT
BEGIN:VEVENT
DTSTART;VALUE=DATE:20251031
DTEND;VALUE=DATE:20251101
DTSTAMP:20260423T125034
CREATED:20251028T021508Z
LAST-MODIFIED:20251028T021508Z
UID:2976-1761868800-1761955199@nobleminds.org
SUMMARY:Fall Fest
DESCRIPTION:
URL:https://nobleminds.org/event/fall-fest-3/
CATEGORIES:Faculty/ Staff,Parents,Students
END:VEVENT
BEGIN:VEVENT
DTSTART;VALUE=DATE:20250811
DTEND;VALUE=DATE:20250812
DTSTAMP:20260423T125034
CREATED:20250609T164624Z
LAST-MODIFIED:20250609T164624Z
UID:2946-1754870400-1754956799@nobleminds.org
SUMMARY:First Day of School
DESCRIPTION:
URL:https://nobleminds.org/event/first-day-of-school-2/
CATEGORIES:Parents,Students
END:VEVENT
BEGIN:VEVENT
DTSTART;VALUE=DATE:20241220
DTEND;VALUE=DATE:20241221
DTSTAMP:20260423T125034
CREATED:20241204T000556Z
LAST-MODIFIED:20241204T000556Z
UID:2827-1734652800-1734739199@nobleminds.org
SUMMARY:Report Card Conferences (no school)
DESCRIPTION:
URL:https://nobleminds.org/event/report-card-conferences-no-school-2/
CATEGORIES:Faculty/ Staff,Parents,Special
END:VEVENT
BEGIN:VEVENT
DTSTART;VALUE=DATE:20241219
DTEND;VALUE=DATE:20241220
DTSTAMP:20260423T125034
CREATED:20241204T000517Z
LAST-MODIFIED:20241204T000517Z
UID:2825-1734566400-1734652799@nobleminds.org
SUMMARY:Winter Formal (grades 7&8 only)
DESCRIPTION:
URL:https://nobleminds.org/event/winter-formal-grades-78-only/
CATEGORIES:Parents,Students
END:VEVENT
BEGIN:VEVENT
DTSTART;VALUE=DATE:20241219
DTEND;VALUE=DATE:20241220
DTSTAMP:20260423T125034
CREATED:20241204T000440Z
LAST-MODIFIED:20241204T000440Z
UID:2823-1734566400-1734652799@nobleminds.org
SUMMARY:Winter Wonderland!
DESCRIPTION:
URL:https://nobleminds.org/event/winter-wonderland/
CATEGORIES:Parents,Students
END:VEVENT
BEGIN:VEVENT
DTSTART;VALUE=DATE:20241202
DTEND;VALUE=DATE:20241214
DTSTAMP:20260423T125034
CREATED:20241204T000745Z
LAST-MODIFIED:20241204T000745Z
UID:2831-1733097600-1734134399@nobleminds.org
SUMMARY:MOY DIBELS Testing (grades K-3)
DESCRIPTION:
URL:https://nobleminds.org/event/moy-dibels-testing-grades-k-3/
CATEGORIES:Parents,Students
END:VEVENT
BEGIN:VEVENT
DTSTART;VALUE=DATE:20241014
DTEND;VALUE=DATE:20241015
DTSTAMP:20260423T125034
CREATED:20240804T030100Z
LAST-MODIFIED:20240804T030100Z
UID:2717-1728864000-1728950399@nobleminds.org
SUMMARY:Report Card Conferences - NO SCHOOL
DESCRIPTION:
URL:https://nobleminds.org/event/report-card-conferences-no-school/
CATEGORIES:Parents
END:VEVENT
BEGIN:VEVENT
DTSTART;TZID=America/Chicago:20240809T090000
DTEND;TZID=America/Chicago:20240809T170000
DTSTAMP:20260423T125034
CREATED:20240804T002048Z
LAST-MODIFIED:20240804T003247Z
UID:2654-1723194000-1723222800@nobleminds.org
SUMMARY:School Supply Drop Off - All Grade Levels
DESCRIPTION:
URL:https://nobleminds.org/event/aug-09-school-supply-drop-off-all-grade-levels/
CATEGORIES:Parents,Students
END:VEVENT
BEGIN:VEVENT
DTSTART;VALUE=DATE:20240318
DTEND;VALUE=DATE:20240319
DTSTAMP:20260423T125034
CREATED:20230802T022823Z
LAST-MODIFIED:20230802T030533Z
UID:2043-1710720000-1710806399@nobleminds.org
SUMMARY:Report Card Conferences - Half Day for Students (12pm dismissal)
DESCRIPTION:
URL:https://nobleminds.org/event/report-card-conferences-half-day-for-students-12pm-dismissal/
CATEGORIES:Parents
END:VEVENT
BEGIN:VEVENT
DTSTART;VALUE=DATE:20231218
DTEND;VALUE=DATE:20231219
DTSTAMP:20260423T125034
CREATED:20230802T022130Z
LAST-MODIFIED:20230802T031112Z
UID:2023-1702857600-1702943999@nobleminds.org
SUMMARY:Report Card Conferences - No School for Students
DESCRIPTION:
URL:https://nobleminds.org/event/report-card-conferences-no-school-for-students-2/
CATEGORIES:Parents
END:VEVENT
BEGIN:VEVENT
DTSTART;VALUE=DATE:20231016
DTEND;VALUE=DATE:20231017
DTSTAMP:20260423T125034
CREATED:20230802T021711Z
LAST-MODIFIED:20230802T025449Z
UID:2007-1697414400-1697500799@nobleminds.org
SUMMARY:Report Card Conferences - No School for Students
DESCRIPTION:
URL:https://nobleminds.org/event/report-card-conferences-no-school-for-students/
CATEGORIES:Parents
END:VEVENT
BEGIN:VEVENT
DTSTART;TZID=America/Chicago:20230811T120000
DTEND;TZID=America/Chicago:20230811T160000
DTSTAMP:20260423T125034
CREATED:20230801T123257Z
LAST-MODIFIED:20230802T024839Z
UID:1995-1691755200-1691769600@nobleminds.org
SUMMARY:School Supply Drop Off - (5th - 8th Grades)
DESCRIPTION:
URL:https://nobleminds.org/event/school-supply-drop-off-2/
CATEGORIES:Parents
END:VEVENT
BEGIN:VEVENT
DTSTART;TZID=America/Chicago:20230811T080000
DTEND;TZID=America/Chicago:20230811T120000
DTSTAMP:20260423T125034
CREATED:20230801T123149Z
LAST-MODIFIED:20230802T024742Z
UID:1993-1691740800-1691755200@nobleminds.org
SUMMARY:School Supply Drop Off -  (Kindergarten - 4th Grade)
DESCRIPTION:
URL:https://nobleminds.org/event/school-supply-drop-off/
CATEGORIES:Parents
END:VEVENT
END:VCALENDAR