BEGIN:VCALENDAR
VERSION:2.0
PRODID:-//Noble Minds Institute - ECPv6.15.20//NONSGML v1.0//EN
CALSCALE:GREGORIAN
METHOD:PUBLISH
X-WR-CALNAME:Noble Minds Institute
X-ORIGINAL-URL:https://nobleminds.org
X-WR-CALDESC:Events for Noble Minds Institute
REFRESH-INTERVAL;VALUE=DURATION:PT1H
X-Robots-Tag:noindex
X-PUBLISHED-TTL:PT1H
BEGIN:VTIMEZONE
TZID:America/Chicago
BEGIN:DAYLIGHT
TZOFFSETFROM:-0600
TZOFFSETTO:-0500
TZNAME:CDT
DTSTART:20220313T080000
END:DAYLIGHT
BEGIN:STANDARD
TZOFFSETFROM:-0500
TZOFFSETTO:-0600
TZNAME:CST
DTSTART:20221106T070000
END:STANDARD
BEGIN:DAYLIGHT
TZOFFSETFROM:-0600
TZOFFSETTO:-0500
TZNAME:CDT
DTSTART:20230312T080000
END:DAYLIGHT
BEGIN:STANDARD
TZOFFSETFROM:-0500
TZOFFSETTO:-0600
TZNAME:CST
DTSTART:20231105T070000
END:STANDARD
BEGIN:DAYLIGHT
TZOFFSETFROM:-0600
TZOFFSETTO:-0500
TZNAME:CDT
DTSTART:20240310T080000
END:DAYLIGHT
BEGIN:STANDARD
TZOFFSETFROM:-0500
TZOFFSETTO:-0600
TZNAME:CST
DTSTART:20241103T070000
END:STANDARD
BEGIN:DAYLIGHT
TZOFFSETFROM:-0600
TZOFFSETTO:-0500
TZNAME:CDT
DTSTART:20250309T080000
END:DAYLIGHT
BEGIN:STANDARD
TZOFFSETFROM:-0500
TZOFFSETTO:-0600
TZNAME:CST
DTSTART:20251102T070000
END:STANDARD
BEGIN:DAYLIGHT
TZOFFSETFROM:-0600
TZOFFSETTO:-0500
TZNAME:CDT
DTSTART:20260308T080000
END:DAYLIGHT
BEGIN:STANDARD
TZOFFSETFROM:-0500
TZOFFSETTO:-0600
TZNAME:CST
DTSTART:20261101T070000
END:STANDARD
BEGIN:DAYLIGHT
TZOFFSETFROM:-0600
TZOFFSETTO:-0500
TZNAME:CDT
DTSTART:20270314T080000
END:DAYLIGHT
BEGIN:STANDARD
TZOFFSETFROM:-0500
TZOFFSETTO:-0600
TZNAME:CST
DTSTART:20271107T070000
END:STANDARD
END:VTIMEZONE
BEGIN:VEVENT
DTSTART;VALUE=DATE:20260328
DTEND;VALUE=DATE:20260329
DTSTAMP:20260423T135142
CREATED:20251028T022603Z
LAST-MODIFIED:20251028T022603Z
UID:3002-1774656000-1774742399@nobleminds.org
SUMMARY:Spring Teddy Bear Tea
DESCRIPTION:
URL:https://nobleminds.org/event/spring-teddy-bear-tea/
CATEGORIES:Parents,Special,Students
END:VEVENT
BEGIN:VEVENT
DTSTART;VALUE=DATE:20251218
DTEND;VALUE=DATE:20251219
DTSTAMP:20260423T135142
CREATED:20251028T021839Z
LAST-MODIFIED:20251028T021839Z
UID:2984-1766016000-1766102399@nobleminds.org
SUMMARY:Winter Wonderland
DESCRIPTION:
URL:https://nobleminds.org/event/winter-wonderland-2/
CATEGORIES:Special
END:VEVENT
BEGIN:VEVENT
DTSTART;VALUE=DATE:20251213
DTEND;VALUE=DATE:20251214
DTSTAMP:20260423T135142
CREATED:20251028T021753Z
LAST-MODIFIED:20251028T021753Z
UID:2982-1765584000-1765670399@nobleminds.org
SUMMARY:Teddy Bear Tea
DESCRIPTION:
URL:https://nobleminds.org/event/teddy-bear-tea/
CATEGORIES:Special,Students
END:VEVENT
BEGIN:VEVENT
DTSTART;TZID=America/Chicago:20250927T090000
DTEND;TZID=America/Chicago:20250927T110000
DTSTAMP:20260423T135142
CREATED:20250609T165232Z
LAST-MODIFIED:20250609T165232Z
UID:2961-1758963600-1758970800@nobleminds.org
SUMMARY:Car Wash Fundraisers
DESCRIPTION:
URL:https://nobleminds.org/event/car-wash-fundraisers-4/
CATEGORIES:Special
END:VEVENT
BEGIN:VEVENT
DTSTART;TZID=America/Chicago:20250920T090000
DTEND;TZID=America/Chicago:20250920T110000
DTSTAMP:20260423T135142
CREATED:20250609T165148Z
LAST-MODIFIED:20250609T165148Z
UID:2958-1758358800-1758366000@nobleminds.org
SUMMARY:Car Wash Fundraisers
DESCRIPTION:
URL:https://nobleminds.org/event/car-wash-fundraisers-3/
CATEGORIES:Special
END:VEVENT
BEGIN:VEVENT
DTSTART;TZID=America/Chicago:20250915T080000
DTEND;TZID=America/Chicago:20250915T170000
DTSTAMP:20260423T135142
CREATED:20250609T164757Z
LAST-MODIFIED:20250609T164757Z
UID:2950-1757923200-1757955600@nobleminds.org
SUMMARY:Back to School Night
DESCRIPTION:
URL:https://nobleminds.org/event/back-to-school-night-3/
CATEGORIES:Special
END:VEVENT
BEGIN:VEVENT
DTSTART;TZID=America/Chicago:20250913T090000
DTEND;TZID=America/Chicago:20250913T110000
DTSTAMP:20260423T135142
CREATED:20250609T165107Z
LAST-MODIFIED:20250609T165107Z
UID:2955-1757754000-1757761200@nobleminds.org
SUMMARY:Car Wash Fundraisers
DESCRIPTION:
URL:https://nobleminds.org/event/car-wash-fundraisers-2/
CATEGORIES:Special
END:VEVENT
BEGIN:VEVENT
DTSTART;TZID=America/Chicago:20250906T090000
DTEND;TZID=America/Chicago:20250906T110000
DTSTAMP:20260423T135142
CREATED:20250609T165012Z
LAST-MODIFIED:20250609T165012Z
UID:2952-1757149200-1757156400@nobleminds.org
SUMMARY:Car Wash Fundraisers
DESCRIPTION:
URL:https://nobleminds.org/event/car-wash-fundraisers/
CATEGORIES:Special
END:VEVENT
BEGIN:VEVENT
DTSTART;TZID=America/Chicago:20250725T180000
DTEND;TZID=America/Chicago:20250725T210000
DTSTAMP:20260423T135142
CREATED:20250609T164535Z
LAST-MODIFIED:20250609T164535Z
UID:2944-1753466400-1753477200@nobleminds.org
SUMMARY:2025  Tween Dance Meet Up
DESCRIPTION:Ages 10-12. 6:00pm – 9:00pm. $20
URL:https://nobleminds.org/event/2025-tween-dance-meet-up-5/
CATEGORIES:Special
END:VEVENT
BEGIN:VEVENT
DTSTART;TZID=America/Chicago:20250711T180000
DTEND;TZID=America/Chicago:20250711T210000
DTSTAMP:20260423T135142
CREATED:20250609T164451Z
LAST-MODIFIED:20250609T164451Z
UID:2941-1752256800-1752267600@nobleminds.org
SUMMARY:2025  Tween Dance Meet Up
DESCRIPTION:Ages 10-12. 6:00pm – 9:00pm. $20
URL:https://nobleminds.org/event/2025-tween-dance-meet-up-4/
CATEGORIES:Special
END:VEVENT
BEGIN:VEVENT
DTSTART;VALUE=DATE:20250701
DTEND;VALUE=DATE:20250702
DTSTAMP:20260423T135142
CREATED:20250609T164221Z
LAST-MODIFIED:20250609T164221Z
UID:2936-1751328000-1751414399@nobleminds.org
SUMMARY:Fee Payment Due
DESCRIPTION:
URL:https://nobleminds.org/event/fee-payment-due/
CATEGORIES:Special
END:VEVENT
BEGIN:VEVENT
DTSTART;TZID=America/Chicago:20250627T180000
DTEND;TZID=America/Chicago:20250627T210000
DTSTAMP:20260423T135142
CREATED:20250609T164101Z
LAST-MODIFIED:20250609T164101Z
UID:2933-1751047200-1751058000@nobleminds.org
SUMMARY:2025  Tween Dance Meet Up
DESCRIPTION:Ages 10-12. 6:00pm – 9:00pm. $20
URL:https://nobleminds.org/event/2025-tween-dance-meet-up-3/
CATEGORIES:Special
END:VEVENT
BEGIN:VEVENT
DTSTART;TZID=America/Chicago:20250620T180000
DTEND;TZID=America/Chicago:20250620T210000
DTSTAMP:20260423T135142
CREATED:20250609T164008Z
LAST-MODIFIED:20250609T164130Z
UID:2930-1750442400-1750453200@nobleminds.org
SUMMARY:2025  Tween Dance Meet Up
DESCRIPTION:Ages 10-12. 6:00pm – 9:00pm. $20
URL:https://nobleminds.org/event/2025-tween-dance-meet-up-2/
CATEGORIES:Special
END:VEVENT
BEGIN:VEVENT
DTSTART;TZID=America/Chicago:20250615T180000
DTEND;TZID=America/Chicago:20250615T210000
DTSTAMP:20260423T135142
CREATED:20250609T163800Z
LAST-MODIFIED:20250609T163800Z
UID:2926-1750010400-1750021200@nobleminds.org
SUMMARY:2025 Father/daughter dance - $20
DESCRIPTION:
URL:https://nobleminds.org/event/2025-father-daughter-dance-20/
CATEGORIES:Special
END:VEVENT
BEGIN:VEVENT
DTSTART;TZID=America/Chicago:20250606T180000
DTEND;TZID=America/Chicago:20250606T210000
DTSTAMP:20260423T135142
CREATED:20250609T163551Z
LAST-MODIFIED:20250609T163639Z
UID:2923-1749232800-1749243600@nobleminds.org
SUMMARY:2025 Tween Dance Meet Up ...
DESCRIPTION:Ages 10-12   6:00pm – 9:00pm  $20
URL:https://nobleminds.org/event/2025-tween-dance-meet-up/
CATEGORIES:Special
END:VEVENT
BEGIN:VEVENT
DTSTART;VALUE=DATE:20250106
DTEND;VALUE=DATE:20250107
DTSTAMP:20260423T135142
CREATED:20241204T051523Z
LAST-MODIFIED:20241204T051619Z
UID:2835-1736121600-1736207999@nobleminds.org
SUMMARY:School Resumes
DESCRIPTION:
URL:https://nobleminds.org/event/school-resumes-3/
CATEGORIES:Special
END:VEVENT
BEGIN:VEVENT
DTSTART;VALUE=DATE:20241220
DTEND;VALUE=DATE:20241221
DTSTAMP:20260423T135142
CREATED:20241204T000556Z
LAST-MODIFIED:20241204T000556Z
UID:2827-1734652800-1734739199@nobleminds.org
SUMMARY:Report Card Conferences (no school)
DESCRIPTION:
URL:https://nobleminds.org/event/report-card-conferences-no-school-2/
CATEGORIES:Faculty/ Staff,Parents,Special
END:VEVENT
BEGIN:VEVENT
DTSTART;TZID=America/Chicago:20241204T110000
DTEND;TZID=America/Chicago:20241204T120000
DTSTAMP:20260423T135142
CREATED:20241203T235830Z
LAST-MODIFIED:20241204T230510Z
UID:2815-1733310000-1733313600@nobleminds.org
SUMMARY:Board Meeting (via Zoom)
DESCRIPTION:Topic: Noble Minds SPECIAL Board Meeting\nTime: Dec 4\, 2024 11:00 AM Central Time (US and Canada) \nJoin Zoom Meeting \nhttps://us02web.zoom.us/j/81187952876pwd=PaQlOlLybdo9Es0uCcYcMxT6tUB2Tb.1 \nMeeting ID: 811 8795 2876\nPasscode: 833356
URL:https://nobleminds.org/event/board-meeting/
CATEGORIES:Special
END:VEVENT
BEGIN:VEVENT
DTSTART;VALUE=DATE:20241122
DTEND;VALUE=DATE:20241123
DTSTAMP:20260423T135142
CREATED:20240804T030939Z
LAST-MODIFIED:20240804T030939Z
UID:2736-1732233600-1732319999@nobleminds.org
SUMMARY:Fall Fest
DESCRIPTION:
URL:https://nobleminds.org/event/fall-fest-2/
CATEGORIES:Special
END:VEVENT
BEGIN:VEVENT
DTSTART;VALUE=DATE:20241118
DTEND;VALUE=DATE:20241123
DTSTAMP:20260423T135142
CREATED:20240804T030919Z
LAST-MODIFIED:20240804T030919Z
UID:2734-1731888000-1732319999@nobleminds.org
SUMMARY:Spirit Week
DESCRIPTION:
URL:https://nobleminds.org/event/spirit-week/
CATEGORIES:Special
END:VEVENT
BEGIN:VEVENT
DTSTART;VALUE=DATE:20241111
DTEND;VALUE=DATE:20241112
DTSTAMP:20260423T135142
CREATED:20240804T030804Z
LAST-MODIFIED:20240804T030804Z
UID:2730-1731283200-1731369599@nobleminds.org
SUMMARY:Veterans Day
DESCRIPTION:
URL:https://nobleminds.org/event/veterans-day-2/
CATEGORIES:Special
END:VEVENT
BEGIN:VEVENT
DTSTART;VALUE=DATE:20241031
DTEND;VALUE=DATE:20241101
DTSTAMP:20260423T135142
CREATED:20240804T031503Z
LAST-MODIFIED:20240804T031503Z
UID:2741-1730332800-1730419199@nobleminds.org
SUMMARY:Halloween
DESCRIPTION:
URL:https://nobleminds.org/event/halloween-2/
CATEGORIES:Special
END:VEVENT
BEGIN:VEVENT
DTSTART;VALUE=DATE:20241016
DTEND;VALUE=DATE:20241017
DTSTAMP:20260423T135142
CREATED:20240804T030201Z
LAST-MODIFIED:20240804T030201Z
UID:2721-1729036800-1729123199@nobleminds.org
SUMMARY:Boss's Day
DESCRIPTION:
URL:https://nobleminds.org/event/bosss-day/
CATEGORIES:Special
END:VEVENT
BEGIN:VEVENT
DTSTART;VALUE=DATE:20241011
DTEND;VALUE=DATE:20241012
DTSTAMP:20260423T135142
CREATED:20240804T030008Z
LAST-MODIFIED:20240804T030008Z
UID:2715-1728604800-1728691199@nobleminds.org
SUMMARY:Hispanic Heritage Month Celebration
DESCRIPTION:
URL:https://nobleminds.org/event/hispanic-heritage-month-celebration/
CATEGORIES:Special
END:VEVENT
BEGIN:VEVENT
DTSTART;VALUE=DATE:20240915
DTEND;VALUE=DATE:20240916
DTSTAMP:20260423T135142
CREATED:20240804T025738Z
LAST-MODIFIED:20240804T025738Z
UID:2707-1726358400-1726444799@nobleminds.org
SUMMARY:Hispanic Heritage Month Begins
DESCRIPTION:
URL:https://nobleminds.org/event/hispanic-heritage-month-begins/
CATEGORIES:Special
END:VEVENT
BEGIN:VEVENT
DTSTART;VALUE=DATE:20240402
DTEND;VALUE=DATE:20240403
DTSTAMP:20260423T135142
CREATED:20230802T023003Z
LAST-MODIFIED:20230802T025848Z
UID:2049-1712016000-1712102399@nobleminds.org
SUMMARY:World Autism Day
DESCRIPTION:
URL:https://nobleminds.org/event/world-autism-day/
CATEGORIES:Special
END:VEVENT
BEGIN:VEVENT
DTSTART;VALUE=DATE:20240321
DTEND;VALUE=DATE:20240322
DTSTAMP:20260423T135142
CREATED:20230802T022900Z
LAST-MODIFIED:20230802T030003Z
UID:2045-1710979200-1711065599@nobleminds.org
SUMMARY:World Down Syndrome Day
DESCRIPTION:
URL:https://nobleminds.org/event/world-down-syndrome-day/
CATEGORIES:Special
END:VEVENT
BEGIN:VEVENT
DTSTART;TZID=America/Chicago:20240229T100000
DTEND;TZID=America/Chicago:20240229T120000
DTSTAMP:20260423T135142
CREATED:20230802T022643Z
LAST-MODIFIED:20230802T030547Z
UID:2039-1709200800-1709208000@nobleminds.org
SUMMARY:Black History Program
DESCRIPTION:
URL:https://nobleminds.org/event/black-history-program/
CATEGORIES:Special
END:VEVENT
BEGIN:VEVENT
DTSTART;VALUE=DATE:20240209
DTEND;VALUE=DATE:20240210
DTSTAMP:20260423T135142
CREATED:20230802T022513Z
LAST-MODIFIED:20230802T030914Z
UID:2035-1707436800-1707523199@nobleminds.org
SUMMARY:School Parade
DESCRIPTION:
URL:https://nobleminds.org/event/school-parade/
CATEGORIES:Special
END:VEVENT
BEGIN:VEVENT
DTSTART;VALUE=DATE:20231222
DTEND;VALUE=DATE:20231223
DTSTAMP:20260423T135142
CREATED:20230802T022221Z
LAST-MODIFIED:20230802T031058Z
UID:2025-1703203200-1703289599@nobleminds.org
SUMMARY:Winter Wonderland Program/ Winter Formal (grades 5-8)
DESCRIPTION:
URL:https://nobleminds.org/event/winter-wonderland-program-winter-formal-grades-5-8/
CATEGORIES:Special
END:VEVENT
END:VCALENDAR