BEGIN:VCALENDAR
VERSION:2.0
PRODID:-//Noble Minds Institute - ECPv6.15.20//NONSGML v1.0//EN
CALSCALE:GREGORIAN
METHOD:PUBLISH
X-WR-CALNAME:Noble Minds Institute
X-ORIGINAL-URL:https://nobleminds.org
X-WR-CALDESC:Events for Noble Minds Institute
REFRESH-INTERVAL;VALUE=DURATION:PT1H
X-Robots-Tag:noindex
X-PUBLISHED-TTL:PT1H
BEGIN:VTIMEZONE
TZID:America/Chicago
BEGIN:DAYLIGHT
TZOFFSETFROM:-0600
TZOFFSETTO:-0500
TZNAME:CDT
DTSTART:20220313T080000
END:DAYLIGHT
BEGIN:STANDARD
TZOFFSETFROM:-0500
TZOFFSETTO:-0600
TZNAME:CST
DTSTART:20221106T070000
END:STANDARD
BEGIN:DAYLIGHT
TZOFFSETFROM:-0600
TZOFFSETTO:-0500
TZNAME:CDT
DTSTART:20230312T080000
END:DAYLIGHT
BEGIN:STANDARD
TZOFFSETFROM:-0500
TZOFFSETTO:-0600
TZNAME:CST
DTSTART:20231105T070000
END:STANDARD
BEGIN:DAYLIGHT
TZOFFSETFROM:-0600
TZOFFSETTO:-0500
TZNAME:CDT
DTSTART:20240310T080000
END:DAYLIGHT
BEGIN:STANDARD
TZOFFSETFROM:-0500
TZOFFSETTO:-0600
TZNAME:CST
DTSTART:20241103T070000
END:STANDARD
END:VTIMEZONE
BEGIN:VEVENT
DTSTART;VALUE=DATE:20231215
DTEND;VALUE=DATE:20231216
DTSTAMP:20260423T164443
CREATED:20230802T022049Z
LAST-MODIFIED:20230802T031126Z
UID:2021-1702598400-1702684799@nobleminds.org
SUMMARY:End of second Nine Weeks
DESCRIPTION:
URL:https://nobleminds.org/event/end-of-second-nine-weeks/
CATEGORIES:Special
END:VEVENT
BEGIN:VEVENT
DTSTART;VALUE=DATE:20231117
DTEND;VALUE=DATE:20231118
DTSTAMP:20260423T164443
CREATED:20230802T021856Z
LAST-MODIFIED:20230802T025614Z
UID:2015-1700179200-1700265599@nobleminds.org
SUMMARY:Fall Feast
DESCRIPTION:
URL:https://nobleminds.org/event/fall-feast/
CATEGORIES:Special
END:VEVENT
BEGIN:VEVENT
DTSTART;VALUE=DATE:20231027
DTEND;VALUE=DATE:20231028
DTSTAMP:20260423T164443
CREATED:20230802T021732Z
LAST-MODIFIED:20230802T025509Z
UID:2009-1698364800-1698451199@nobleminds.org
SUMMARY:Fall Fest
DESCRIPTION:
URL:https://nobleminds.org/event/fall-fest/
CATEGORIES:Special
END:VEVENT
BEGIN:VEVENT
DTSTART;TZID=America/Chicago:20230831T173000
DTEND;TZID=America/Chicago:20230831T190000
DTSTAMP:20260423T164443
CREATED:20230802T021527Z
LAST-MODIFIED:20230802T025347Z
UID:2001-1693503000-1693508400@nobleminds.org
SUMMARY:Back to School Night
DESCRIPTION:
URL:https://nobleminds.org/event/back-to-school-night/
CATEGORIES:Special
END:VEVENT
END:VCALENDAR