BEGIN:VCALENDAR
VERSION:2.0
PRODID:-//Noble Minds Institute - ECPv6.15.20//NONSGML v1.0//EN
CALSCALE:GREGORIAN
METHOD:PUBLISH
X-WR-CALNAME:Noble Minds Institute
X-ORIGINAL-URL:https://nobleminds.org
X-WR-CALDESC:Events for Noble Minds Institute
REFRESH-INTERVAL;VALUE=DURATION:PT1H
X-Robots-Tag:noindex
X-PUBLISHED-TTL:PT1H
BEGIN:VTIMEZONE
TZID:America/Chicago
BEGIN:DAYLIGHT
TZOFFSETFROM:-0600
TZOFFSETTO:-0500
TZNAME:CDT
DTSTART:20220313T080000
END:DAYLIGHT
BEGIN:STANDARD
TZOFFSETFROM:-0500
TZOFFSETTO:-0600
TZNAME:CST
DTSTART:20221106T070000
END:STANDARD
BEGIN:DAYLIGHT
TZOFFSETFROM:-0600
TZOFFSETTO:-0500
TZNAME:CDT
DTSTART:20230312T080000
END:DAYLIGHT
BEGIN:STANDARD
TZOFFSETFROM:-0500
TZOFFSETTO:-0600
TZNAME:CST
DTSTART:20231105T070000
END:STANDARD
BEGIN:DAYLIGHT
TZOFFSETFROM:-0600
TZOFFSETTO:-0500
TZNAME:CDT
DTSTART:20240310T080000
END:DAYLIGHT
BEGIN:STANDARD
TZOFFSETFROM:-0500
TZOFFSETTO:-0600
TZNAME:CST
DTSTART:20241103T070000
END:STANDARD
BEGIN:DAYLIGHT
TZOFFSETFROM:-0600
TZOFFSETTO:-0500
TZNAME:CDT
DTSTART:20250309T080000
END:DAYLIGHT
BEGIN:STANDARD
TZOFFSETFROM:-0500
TZOFFSETTO:-0600
TZNAME:CST
DTSTART:20251102T070000
END:STANDARD
END:VTIMEZONE
BEGIN:VEVENT
DTSTART;TZID=America/Chicago:20240809T090000
DTEND;TZID=America/Chicago:20240809T170000
DTSTAMP:20260423T152302
CREATED:20240804T002048Z
LAST-MODIFIED:20240804T003247Z
UID:2654-1723194000-1723222800@nobleminds.org
SUMMARY:School Supply Drop Off - All Grade Levels
DESCRIPTION:
URL:https://nobleminds.org/event/aug-09-school-supply-drop-off-all-grade-levels/
CATEGORIES:Parents,Students
END:VEVENT
BEGIN:VEVENT
DTSTART;VALUE=DATE:20240807
DTEND;VALUE=DATE:20240808
DTSTAMP:20260423T152302
CREATED:20240804T002016Z
LAST-MODIFIED:20240804T022516Z
UID:2652-1722988800-1723075199@nobleminds.org
SUMMARY:Orientation
DESCRIPTION:9am – 12pm\n1pm – 3pm\n** Please choose whichever time works best for you **
URL:https://nobleminds.org/event/aug-07-orientation-9am-12pm-1pm-3pm/
CATEGORIES:Students
END:VEVENT
BEGIN:VEVENT
DTSTART;VALUE=DATE:20240524
DTEND;VALUE=DATE:20240525
DTSTAMP:20260423T152302
CREATED:20230802T023312Z
LAST-MODIFIED:20230802T025739Z
UID:2059-1716508800-1716595199@nobleminds.org
SUMMARY:Last Day of School
DESCRIPTION:
URL:https://nobleminds.org/event/last-day-of-school/
CATEGORIES:Students
END:VEVENT
BEGIN:VEVENT
DTSTART;VALUE=DATE:20240517
DTEND;VALUE=DATE:20240518
DTSTAMP:20260423T152302
CREATED:20230802T023245Z
LAST-MODIFIED:20230802T025752Z
UID:2057-1715904000-1715990399@nobleminds.org
SUMMARY:8th Grade Graduation (Tentative)
DESCRIPTION:
URL:https://nobleminds.org/event/8th-grade-graduation-tentative/
CATEGORIES:Students
END:VEVENT
BEGIN:VEVENT
DTSTART;VALUE=DATE:20240516
DTEND;VALUE=DATE:20240517
DTSTAMP:20260423T152302
CREATED:20230802T023148Z
LAST-MODIFIED:20230802T025807Z
UID:2055-1715817600-1715903999@nobleminds.org
SUMMARY:Kindergarten Graduation (Tentative)
DESCRIPTION:
URL:https://nobleminds.org/event/kindergarten-graduation-tentative/
CATEGORIES:Students
END:VEVENT
BEGIN:VEVENT
DTSTART;VALUE=DATE:20240403
DTEND;VALUE=DATE:20240404
DTSTAMP:20260423T152302
CREATED:20230802T023028Z
LAST-MODIFIED:20230802T025834Z
UID:2051-1712102400-1712188799@nobleminds.org
SUMMARY:School Resumes
DESCRIPTION:
URL:https://nobleminds.org/event/school-resumes-2/
CATEGORIES:Students
END:VEVENT
BEGIN:VEVENT
DTSTART;VALUE=DATE:20240315
DTEND;VALUE=DATE:20240316
DTSTAMP:20260423T152302
CREATED:20230802T022715Z
LAST-MODIFIED:20230802T030522Z
UID:2041-1710460800-1710547199@nobleminds.org
SUMMARY:End of third Nine Weeks
DESCRIPTION:
URL:https://nobleminds.org/event/end-of-third-nine-weeks/
CATEGORIES:Students
END:VEVENT
BEGIN:VEVENT
DTSTART;VALUE=DATE:20240125
DTEND;VALUE=DATE:20240126
DTSTAMP:20260423T152302
CREATED:20230802T022442Z
LAST-MODIFIED:20230802T030929Z
UID:2033-1706140800-1706227199@nobleminds.org
SUMMARY:First 100 Days of School
DESCRIPTION:
URL:https://nobleminds.org/event/first-100-days-of-school/
CATEGORIES:Students
END:VEVENT
BEGIN:VEVENT
DTSTART;VALUE=DATE:20240108
DTEND;VALUE=DATE:20240109
DTSTAMP:20260423T152302
CREATED:20230802T022336Z
LAST-MODIFIED:20230802T031010Z
UID:2029-1704672000-1704758399@nobleminds.org
SUMMARY:School Resumes
DESCRIPTION:
URL:https://nobleminds.org/event/school-resumes/
CATEGORIES:Faculty/ Staff,Students
END:VEVENT
BEGIN:VEVENT
DTSTART;VALUE=DATE:20231013
DTEND;VALUE=DATE:20231014
DTSTAMP:20260423T152302
CREATED:20230802T021633Z
LAST-MODIFIED:20230802T025424Z
UID:2005-1697155200-1697241599@nobleminds.org
SUMMARY:End of First Nine Weeks
DESCRIPTION:
URL:https://nobleminds.org/event/end-of-first-nine-weeks/
CATEGORIES:Students
END:VEVENT
BEGIN:VEVENT
DTSTART;VALUE=DATE:20230814
DTEND;VALUE=DATE:20230815
DTSTAMP:20260423T152302
CREATED:20230802T021447Z
LAST-MODIFIED:20230802T025326Z
UID:1999-1691971200-1692057599@nobleminds.org
SUMMARY:First Day of School
DESCRIPTION:
URL:https://nobleminds.org/event/first-day-of-school/
CATEGORIES:Faculty/ Staff,Students
END:VEVENT
BEGIN:VEVENT
DTSTART;TZID=America/Chicago:20230810T130000
DTEND;TZID=America/Chicago:20230810T150000
DTSTAMP:20260423T152302
CREATED:20230801T121244Z
LAST-MODIFIED:20230802T025002Z
UID:1983-1691672400-1691679600@nobleminds.org
SUMMARY:Orientation (Please choose the time best for you)
DESCRIPTION:
URL:https://nobleminds.org/event/orientation/
CATEGORIES:Students
END:VEVENT
BEGIN:VEVENT
DTSTART;TZID=America/Chicago:20230810T090000
DTEND;TZID=America/Chicago:20230810T120000
DTSTAMP:20260423T152302
CREATED:20230801T121207Z
LAST-MODIFIED:20230802T025112Z
UID:1981-1691658000-1691668800@nobleminds.org
SUMMARY:Orientation - (Please choose the time best for you)
DESCRIPTION:
URL:https://nobleminds.org/event/orientation-please-choose-whichever-is-good-for-you/
CATEGORIES:Students
END:VEVENT
END:VCALENDAR