BEGIN:VCALENDAR
VERSION:2.0
PRODID:-//Noble Minds Institute - ECPv6.15.20//NONSGML v1.0//EN
CALSCALE:GREGORIAN
METHOD:PUBLISH
X-WR-CALNAME:Noble Minds Institute
X-ORIGINAL-URL:https://nobleminds.org
X-WR-CALDESC:Events for Noble Minds Institute
REFRESH-INTERVAL;VALUE=DURATION:PT1H
X-Robots-Tag:noindex
X-PUBLISHED-TTL:PT1H
BEGIN:VTIMEZONE
TZID:America/Chicago
BEGIN:DAYLIGHT
TZOFFSETFROM:-0600
TZOFFSETTO:-0500
TZNAME:CDT
DTSTART:20250309T080000
END:DAYLIGHT
BEGIN:STANDARD
TZOFFSETFROM:-0500
TZOFFSETTO:-0600
TZNAME:CST
DTSTART:20251102T070000
END:STANDARD
BEGIN:DAYLIGHT
TZOFFSETFROM:-0600
TZOFFSETTO:-0500
TZNAME:CDT
DTSTART:20260308T080000
END:DAYLIGHT
BEGIN:STANDARD
TZOFFSETFROM:-0500
TZOFFSETTO:-0600
TZNAME:CST
DTSTART:20261101T070000
END:STANDARD
BEGIN:DAYLIGHT
TZOFFSETFROM:-0600
TZOFFSETTO:-0500
TZNAME:CDT
DTSTART:20270314T080000
END:DAYLIGHT
BEGIN:STANDARD
TZOFFSETFROM:-0500
TZOFFSETTO:-0600
TZNAME:CST
DTSTART:20271107T070000
END:STANDARD
END:VTIMEZONE
BEGIN:VEVENT
DTSTART;VALUE=DATE:20260306
DTEND;VALUE=DATE:20260307
DTSTAMP:20260423T135854
CREATED:20251028T022433Z
LAST-MODIFIED:20251028T022433Z
UID:2998-1772755200-1772841599@nobleminds.org
SUMMARY:2026 1/2 day progress report
DESCRIPTION:
URL:https://nobleminds.org/event/2026-1-2-day-progress-report/
CATEGORIES:Faculty/ Staff,Parents,Students
END:VEVENT
BEGIN:VEVENT
DTSTART;VALUE=DATE:20260309
DTEND;VALUE=DATE:20260310
DTSTAMP:20260423T135854
CREATED:20251028T022518Z
LAST-MODIFIED:20251028T022518Z
UID:3000-1773014400-1773100799@nobleminds.org
SUMMARY:Quarter 4 begins
DESCRIPTION:
URL:https://nobleminds.org/event/quarter-4-begins/
CATEGORIES:Faculty/ Staff,Parents,Students
END:VEVENT
BEGIN:VEVENT
DTSTART;VALUE=DATE:20260328
DTEND;VALUE=DATE:20260329
DTSTAMP:20260423T135854
CREATED:20251028T022603Z
LAST-MODIFIED:20251028T022603Z
UID:3002-1774656000-1774742399@nobleminds.org
SUMMARY:Spring Teddy Bear Tea
DESCRIPTION:
URL:https://nobleminds.org/event/spring-teddy-bear-tea/
CATEGORIES:Parents,Special,Students
END:VEVENT
BEGIN:VEVENT
DTSTART;VALUE=DATE:20260402
DTEND;VALUE=DATE:20260408
DTSTAMP:20260423T135854
CREATED:20251028T022718Z
LAST-MODIFIED:20251028T022718Z
UID:3004-1775088000-1775606399@nobleminds.org
SUMMARY:Spring Break
DESCRIPTION:
URL:https://nobleminds.org/event/spring-break/
CATEGORIES:Faculty/ Staff,Parents,Students
END:VEVENT
BEGIN:VEVENT
DTSTART;VALUE=DATE:20260403
DTEND;VALUE=DATE:20260404
DTSTAMP:20260423T135854
CREATED:20251028T022807Z
LAST-MODIFIED:20251028T022807Z
UID:3006-1775174400-1775260799@nobleminds.org
SUMMARY:Good Friday
DESCRIPTION:
URL:https://nobleminds.org/event/good-friday/
CATEGORIES:Holiday
END:VEVENT
BEGIN:VEVENT
DTSTART;VALUE=DATE:20260405
DTEND;VALUE=DATE:20260406
DTSTAMP:20260423T135854
CREATED:20251028T022841Z
LAST-MODIFIED:20251028T022841Z
UID:3008-1775347200-1775433599@nobleminds.org
SUMMARY:Easter Sunday
DESCRIPTION:
URL:https://nobleminds.org/event/easter-sunday/
CATEGORIES:Holiday
END:VEVENT
BEGIN:VEVENT
DTSTART;VALUE=DATE:20260509
DTEND;VALUE=DATE:20260510
DTSTAMP:20260423T135854
CREATED:20251028T022921Z
LAST-MODIFIED:20251028T022921Z
UID:3010-1778284800-1778371199@nobleminds.org
SUMMARY:Spring FEST
DESCRIPTION:
URL:https://nobleminds.org/event/spring-fest/
CATEGORIES:Parents,Special,Students
END:VEVENT
BEGIN:VEVENT
DTSTART;VALUE=DATE:20260515
DTEND;VALUE=DATE:20260516
DTSTAMP:20260423T135854
CREATED:20251028T023023Z
LAST-MODIFIED:20251028T023023Z
UID:3012-1778803200-1778889599@nobleminds.org
SUMMARY:Last Day of school!
DESCRIPTION:
URL:https://nobleminds.org/event/last-day-of-school-2/
CATEGORIES:Faculty/ Staff,Parents,Students
END:VEVENT
BEGIN:VEVENT
DTSTART;VALUE=DATE:20260619
DTEND;VALUE=DATE:20260620
DTSTAMP:20260423T135854
CREATED:20251028T023106Z
LAST-MODIFIED:20251028T023106Z
UID:3014-1781827200-1781913599@nobleminds.org
SUMMARY:Juneteenth
DESCRIPTION:
URL:https://nobleminds.org/event/juneteenth/
CATEGORIES:Holiday
END:VEVENT
BEGIN:VEVENT
DTSTART;VALUE=DATE:20260704
DTEND;VALUE=DATE:20260705
DTSTAMP:20260423T135854
CREATED:20251028T023145Z
LAST-MODIFIED:20251028T023145Z
UID:3016-1783123200-1783209599@nobleminds.org
SUMMARY:Independence Day
DESCRIPTION:
URL:https://nobleminds.org/event/independence-day/
CATEGORIES:Holiday
END:VEVENT
END:VCALENDAR