BEGIN:VCALENDAR
VERSION:2.0
PRODID:-//Noble Minds Institute - ECPv6.15.20//NONSGML v1.0//EN
CALSCALE:GREGORIAN
METHOD:PUBLISH
X-WR-CALNAME:Noble Minds Institute
X-ORIGINAL-URL:https://nobleminds.org
X-WR-CALDESC:Events for Noble Minds Institute
REFRESH-INTERVAL;VALUE=DURATION:PT1H
X-Robots-Tag:noindex
X-PUBLISHED-TTL:PT1H
BEGIN:VTIMEZONE
TZID:America/Chicago
BEGIN:DAYLIGHT
TZOFFSETFROM:-0600
TZOFFSETTO:-0500
TZNAME:CDT
DTSTART:20230312T080000
END:DAYLIGHT
BEGIN:STANDARD
TZOFFSETFROM:-0500
TZOFFSETTO:-0600
TZNAME:CST
DTSTART:20231105T070000
END:STANDARD
BEGIN:DAYLIGHT
TZOFFSETFROM:-0600
TZOFFSETTO:-0500
TZNAME:CDT
DTSTART:20240310T080000
END:DAYLIGHT
BEGIN:STANDARD
TZOFFSETFROM:-0500
TZOFFSETTO:-0600
TZNAME:CST
DTSTART:20241103T070000
END:STANDARD
BEGIN:DAYLIGHT
TZOFFSETFROM:-0600
TZOFFSETTO:-0500
TZNAME:CDT
DTSTART:20250309T080000
END:DAYLIGHT
BEGIN:STANDARD
TZOFFSETFROM:-0500
TZOFFSETTO:-0600
TZNAME:CST
DTSTART:20251102T070000
END:STANDARD
END:VTIMEZONE
BEGIN:VEVENT
DTSTART;VALUE=DATE:20240801
DTEND;VALUE=DATE:20240810
DTSTAMP:20260424T131629
CREATED:20240804T001922Z
LAST-MODIFIED:20240804T005249Z
UID:2650-1722470400-1723247999@nobleminds.org
SUMMARY:PD for Teachers & Staff
DESCRIPTION:
URL:https://nobleminds.org/event/aug-01-09-pd-for-teachers-staff/
CATEGORIES:Faculty/ Staff
END:VEVENT
BEGIN:VEVENT
DTSTART;VALUE=DATE:20240807
DTEND;VALUE=DATE:20240808
DTSTAMP:20260424T131629
CREATED:20240804T002016Z
LAST-MODIFIED:20240804T022516Z
UID:2652-1722988800-1723075199@nobleminds.org
SUMMARY:Orientation
DESCRIPTION:9am – 12pm\n1pm – 3pm\n** Please choose whichever time works best for you **
URL:https://nobleminds.org/event/aug-07-orientation-9am-12pm-1pm-3pm/
CATEGORIES:Students
END:VEVENT
BEGIN:VEVENT
DTSTART;TZID=America/Chicago:20240809T090000
DTEND;TZID=America/Chicago:20240809T170000
DTSTAMP:20260424T131629
CREATED:20240804T002048Z
LAST-MODIFIED:20240804T003247Z
UID:2654-1723194000-1723222800@nobleminds.org
SUMMARY:School Supply Drop Off - All Grade Levels
DESCRIPTION:
URL:https://nobleminds.org/event/aug-09-school-supply-drop-off-all-grade-levels/
CATEGORIES:Parents,Students
END:VEVENT
BEGIN:VEVENT
DTSTART;VALUE=DATE:20240812
DTEND;VALUE=DATE:20240813
DTSTAMP:20260424T131629
CREATED:20240804T002107Z
LAST-MODIFIED:20240804T010341Z
UID:2656-1723420800-1723507199@nobleminds.org
SUMMARY:First Day of School!
DESCRIPTION:
URL:https://nobleminds.org/event/aug-12-first-day-of-school/
CATEGORIES:Students
END:VEVENT
BEGIN:VEVENT
DTSTART;TZID=America/Chicago:20240820T160000
DTEND;TZID=America/Chicago:20240820T170000
DTSTAMP:20260424T131629
CREATED:20240804T002128Z
LAST-MODIFIED:20240804T003013Z
UID:2658-1724169600-1724173200@nobleminds.org
SUMMARY:Faculty & Staff Meeting
DESCRIPTION:
URL:https://nobleminds.org/event/aug-20-faculty-staff-meeting-4pm/
CATEGORIES:Faculty/ Staff
END:VEVENT
BEGIN:VEVENT
DTSTART;VALUE=DATE:20240826
DTEND;VALUE=DATE:20240830
DTSTAMP:20260424T131629
CREATED:20240804T002347Z
LAST-MODIFIED:20240804T022649Z
UID:2660-1724630400-1724975999@nobleminds.org
SUMMARY:Testing - Various Grades
DESCRIPTION:BOY DIBELS Testing [Grades K-3] \nBOY STEP Testing \nKindergarten Entry Assessment \nELPS Testing
URL:https://nobleminds.org/event/aug-26-aug-29-testing-various-grades/
CATEGORIES:Students
END:VEVENT
BEGIN:VEVENT
DTSTART;VALUE=DATE:20240830
DTEND;VALUE=DATE:20240831
DTSTAMP:20260424T131629
CREATED:20240804T024925Z
LAST-MODIFIED:20240804T024925Z
UID:2695-1724976000-1725062399@nobleminds.org
SUMMARY:Back to School Night
DESCRIPTION:
URL:https://nobleminds.org/event/back-to-school-night-2/
CATEGORIES:Students
END:VEVENT
END:VCALENDAR