BEGIN:VCALENDAR
VERSION:2.0
PRODID:-//Noble Minds Institute - ECPv6.15.20//NONSGML v1.0//EN
CALSCALE:GREGORIAN
METHOD:PUBLISH
X-ORIGINAL-URL:https://nobleminds.org
X-WR-CALDESC:Events for Noble Minds Institute
REFRESH-INTERVAL;VALUE=DURATION:PT1H
X-Robots-Tag:noindex
X-PUBLISHED-TTL:PT1H
BEGIN:VTIMEZONE
TZID:America/Chicago
BEGIN:DAYLIGHT
TZOFFSETFROM:-0600
TZOFFSETTO:-0500
TZNAME:CDT
DTSTART:20240310T080000
END:DAYLIGHT
BEGIN:STANDARD
TZOFFSETFROM:-0500
TZOFFSETTO:-0600
TZNAME:CST
DTSTART:20241103T070000
END:STANDARD
BEGIN:DAYLIGHT
TZOFFSETFROM:-0600
TZOFFSETTO:-0500
TZNAME:CDT
DTSTART:20250309T080000
END:DAYLIGHT
BEGIN:STANDARD
TZOFFSETFROM:-0500
TZOFFSETTO:-0600
TZNAME:CST
DTSTART:20251102T070000
END:STANDARD
BEGIN:DAYLIGHT
TZOFFSETFROM:-0600
TZOFFSETTO:-0500
TZNAME:CDT
DTSTART:20260308T080000
END:DAYLIGHT
BEGIN:STANDARD
TZOFFSETFROM:-0500
TZOFFSETTO:-0600
TZNAME:CST
DTSTART:20261101T070000
END:STANDARD
END:VTIMEZONE
BEGIN:VEVENT
DTSTART;VALUE=DATE:20250901
DTEND;VALUE=DATE:20250902
DTSTAMP:20260423T175601
CREATED:20250609T164711Z
LAST-MODIFIED:20250609T164711Z
UID:2948-1756684800-1756771199@nobleminds.org
SUMMARY:Labor Day
DESCRIPTION:
URL:https://nobleminds.org/event/labor-day/
CATEGORIES:Holiday
END:VEVENT
BEGIN:VEVENT
DTSTART;TZID=America/Chicago:20250906T090000
DTEND;TZID=America/Chicago:20250906T110000
DTSTAMP:20260423T175601
CREATED:20250609T165012Z
LAST-MODIFIED:20250609T165012Z
UID:2952-1757149200-1757156400@nobleminds.org
SUMMARY:Car Wash Fundraisers
DESCRIPTION:
URL:https://nobleminds.org/event/car-wash-fundraisers/
CATEGORIES:Special
END:VEVENT
BEGIN:VEVENT
DTSTART;TZID=America/Chicago:20250913T090000
DTEND;TZID=America/Chicago:20250913T110000
DTSTAMP:20260423T175601
CREATED:20250609T165107Z
LAST-MODIFIED:20250609T165107Z
UID:2955-1757754000-1757761200@nobleminds.org
SUMMARY:Car Wash Fundraisers
DESCRIPTION:
URL:https://nobleminds.org/event/car-wash-fundraisers-2/
CATEGORIES:Special
END:VEVENT
BEGIN:VEVENT
DTSTART;TZID=America/Chicago:20250915T080000
DTEND;TZID=America/Chicago:20250915T170000
DTSTAMP:20260423T175601
CREATED:20250609T164757Z
LAST-MODIFIED:20250609T164757Z
UID:2950-1757923200-1757955600@nobleminds.org
SUMMARY:Back to School Night
DESCRIPTION:
URL:https://nobleminds.org/event/back-to-school-night-3/
CATEGORIES:Special
END:VEVENT
BEGIN:VEVENT
DTSTART;TZID=America/Chicago:20250920T090000
DTEND;TZID=America/Chicago:20250920T110000
DTSTAMP:20260423T175601
CREATED:20250609T165148Z
LAST-MODIFIED:20250609T165148Z
UID:2958-1758358800-1758366000@nobleminds.org
SUMMARY:Car Wash Fundraisers
DESCRIPTION:
URL:https://nobleminds.org/event/car-wash-fundraisers-3/
CATEGORIES:Special
END:VEVENT
BEGIN:VEVENT
DTSTART;TZID=America/Chicago:20250927T090000
DTEND;TZID=America/Chicago:20250927T110000
DTSTAMP:20260423T175601
CREATED:20250609T165232Z
LAST-MODIFIED:20250609T165232Z
UID:2961-1758963600-1758970800@nobleminds.org
SUMMARY:Car Wash Fundraisers
DESCRIPTION:
URL:https://nobleminds.org/event/car-wash-fundraisers-4/
CATEGORIES:Special
END:VEVENT
END:VCALENDAR